BEGIN:VCALENDAR
VERSION:2.0
PRODID:-//Squarespace Inc/Squarespace 6//v6//EN
BEGIN:VEVENT
UID:5cedcb534e17b61cffaa3ffa@squarespace.com
DTSTAMP:20190529T001053Z
DTSTART:20190724T233000Z
DTEND:20190725T013000Z
SUMMARY:Term 3 Philosophical Discussion
GEO:-27.583451;151.981653
LOCATION:Maridahdi Early Childhood Community School\, 3-7 Bowtell Street\, 
 Rangeville QLD 4350\, Australia
END:VEVENT
END:VCALENDAR
