BEGIN:VCALENDAR
VERSION:2.0
PRODID:-//Squarespace Inc/Squarespace 6//v6//EN
BEGIN:VEVENT
UID:5c6290404785d36e1e297de2@squarespace.com
DTSTAMP:20190212T092409Z
DTSTART:20190220T233000Z
DTEND:20190221T013000Z
SUMMARY:Philosophical Discussion
END:VEVENT
END:VCALENDAR
