BEGIN:VCALENDAR
VERSION:2.0
PRODID:-//Squarespace Inc/Squarespace 6//v6//EN
BEGIN:VEVENT
UID:5c6290cbe79c7004be5c1f21@squarespace.com
DTSTAMP:20190814T012643Z
DTSTART:20190213T233000Z
DTEND:20191205T013000Z
SUMMARY:Playgroup
END:VEVENT
END:VCALENDAR
